BEGIN:VCALENDAR
VERSION:2.0
PRODID:-//Norton Center - ECPv6.15.17.1//NONSGML v1.0//EN
CALSCALE:GREGORIAN
METHOD:PUBLISH
X-ORIGINAL-URL:https://nortoncenter.com
X-WR-CALDESC:Events for Norton Center
REFRESH-INTERVAL;VALUE=DURATION:PT1H
X-Robots-Tag:noindex
X-PUBLISHED-TTL:PT1H
BEGIN:VTIMEZONE
TZID:America/New_York
BEGIN:DAYLIGHT
TZOFFSETFROM:-0500
TZOFFSETTO:-0400
TZNAME:EDT
DTSTART:20250309T070000
END:DAYLIGHT
BEGIN:STANDARD
TZOFFSETFROM:-0400
TZOFFSETTO:-0500
TZNAME:EST
DTSTART:20251102T060000
END:STANDARD
BEGIN:DAYLIGHT
TZOFFSETFROM:-0500
TZOFFSETTO:-0400
TZNAME:EDT
DTSTART:20260308T070000
END:DAYLIGHT
BEGIN:STANDARD
TZOFFSETFROM:-0400
TZOFFSETTO:-0500
TZNAME:EST
DTSTART:20261101T060000
END:STANDARD
BEGIN:DAYLIGHT
TZOFFSETFROM:-0500
TZOFFSETTO:-0400
TZNAME:EDT
DTSTART:20270314T070000
END:DAYLIGHT
BEGIN:STANDARD
TZOFFSETFROM:-0400
TZOFFSETTO:-0500
TZNAME:EST
DTSTART:20271107T060000
END:STANDARD
END:VTIMEZONE
BEGIN:VEVENT
DTSTART;TZID=America/New_York:20260422T193000
DTEND;TZID=America/New_York:20260422T193000
DTSTAMP:20260420T060626
CREATED:20251015T134658Z
LAST-MODIFIED:20260317T175835Z
UID:10001775-1776886200-1776886200@nortoncenter.com
SUMMARY:Melissa Etheridge: RISE
DESCRIPTION:[vc_row content_placement=”middle” equal_height=”yes” remove_bottom_col_margin=”true” css=”.vc_custom_1747337274273{margin-bottom: 60px !important;background-color: #231f20 !important;}”][vc_column width=”1/2″ css=”.vc_custom_1747337179690{padding-right: 50px !important;padding-left: 50px !important;}”]A DEFINING VOICE IN AMERICAN ROCK FOR OVER THREE DECADES.BUY TICKETS [vc_column_text child_inherit_color=”false” font_family=”Copernicus” color=”#ffffff” width=”400px” align=”left”]Subscription package discounts and seat rights do not apply to this performance.[/vc_column_text][/vc_column][vc_column width=”1/2″ css=”.vc_custom_1760539492726{padding-right: 0px !important;padding-left: 0px !important;background-image: url(https://nortoncenter.com/wp-content/uploads/2025/10/Melissa_Blackbox-scaled.jpg?id=10254) !important;background-position: center !important;background-repeat: no-repeat !important;background-size: cover !important;}” wpex_bg_position=”top”]	\n[/vc_column][/vc_row][vc_row equal_height=”yes” remove_bottom_col_margin=”true” css=”.vc_custom_1747337296690{margin-bottom: 60px !important;}”][vc_column]ABOUT THE ARTIST[vc_column_text font_family=”Copernicus” font_size=”20″ line_height=”relaxed”]Known for her raspy vocals\, powerful songwriting and unapologetic authenticity\, Melissa Etheridge has been a defining voice in American rock for over three decades. Since storming into the rock scene in 1988\, she has earned multiple Grammy Awards\, a JUNO Award and an Academy Award for Best Original Song. With hits like “Come to My Window\,” “I’m the Only One\,” and “Bring Me Some Water\,” Etheridge continues to captivate audiences with her unmistakable voice\, electrifying performances and heartfelt storytelling. \nView the program.[/vc_column_text][/vc_column][/vc_row][vc_row equal_height=”yes” remove_bottom_col_margin=”true” css=”.vc_custom_1747337296690{margin-bottom: 60px !important;}”][vc_column]VIP PACKAGE[vc_column_text font_family=”Copernicus” font_size=”20″ line_height=”relaxed”]$259 ETHERIDGE ON TOUR VIP MERCH BUNDLE \n\nOne premium reserved seat to see Melissa live\nVIP-exclusive photo print\, autographed by Melissa**\nCanvas workwear jacket with exclusive design and embellishments**\nCarry-on size dufﬂe bag and luggage tag**\n\n**Items shipped approximately one week after the show.[/vc_column_text][/vc_column][/vc_row][vc_row remove_bottom_col_margin=”true” local_scroll_id=”h1″ css=”.vc_custom_1761762073773{margin-bottom: 40px !important;}”][vc_column]EVENT SPONSORS[/vc_column][/vc_row][vc_row equal_height=”yes” remove_bottom_col_margin=”true” css=”.vc_custom_1747337296690{margin-bottom: 60px !important;}”][vc_column width=”1/4″]LEONARD "NAPPI" NAPOLITANO[/vc_column][vc_column width=”1/4″][/vc_column][vc_column width=”1/4″][/vc_column][vc_column width=”1/4″][/vc_column][/vc_row][vc_row remove_bottom_col_margin=”true” local_scroll_id=”h1″ css=”.vc_custom_1689962444644{margin-bottom: 80px !important;}”][vc_column][vc_video link=”https://www.youtube.com/watch?v=Z4aj-t4eGrs”][/vc_column][/vc_row][vc_row remove_bottom_col_margin=”true” local_scroll_id=”h3″ css=”.vc_custom_1746040497722{margin-top: 40px !important;background-color: #f8f8f8 !important;}”][vc_column css=”.vc_custom_1746040531115{margin-right: 20px !important;margin-left: 10px !important;}”]BEFORE YOU ARRIVE [vc_column_text font_family=”Copernicus” css=”.vc_custom_1746042820037{margin-right: 20px !important;}”]The Norton Center is located on Centre College’s campus in historic downtown Danville\, Kentucky. Please take a moment to review our event policies before arriving.[/vc_column_text][/vc_column][/vc_row][vc_row][vc_column][vc_tta_accordion section_title_tag=”h2″ style=”flat” gap=”10″ c_position=”right” active_section=”0″ collapsible_all=”true”][vc_tta_section i_icon_fontawesome=”fas fa-car” add_icon=”true” title=”PARKING” tab_id=”1746107718555-3c7de3d4-2f94″][vc_column_text font_family=”Copernicus”]\n\n\nThe Norton Center is located in Danville\, Kentucky at the corner of Walnut Street and College Street. Limited parking is available in the Norton Center lot. Reserved accessible parking is available by calling the Box Office at 859-236-4692. \nNorton Center Lot + Accessible Parking\n$5 Paid Parking on Show Nights\n99 Charleston Green\, Danville\, KY\nGoogle Maps \nDanville City Parking Garage\nFree weekdays after 5:00 p.m. and on Saturdays and Sundays\nLocated just a few blocks from the Norton Center.\n105 South 3rd Street\, Danville\, KY\nGoogle Maps \n  \n\n\n[/vc_column_text][/vc_tta_section][vc_tta_section i_icon_fontawesome=”fas fa-wheelchair” add_icon=”true” title=”ACCESSIBILITY” tab_id=”1746107718568-ac7f24e8-43dd”][vc_column_text font_family=”Copernicus”]Please note that the Norton Center is a historic venue with limited accessible seating. Special reserved wheelchair and companion seating is available for all shows. Please call the Box Office at 859-236-4692 to request assistance with your accommodations.[/vc_column_text][/vc_tta_section][vc_tta_section i_icon_fontawesome=”fas fa-door-closed” add_icon=”true” title=”THEATRE DOORS” tab_id=”1746107718581-a7fe63cb-0c8b”][vc_column_text font_family=”Copernicus”]The Grand Foyer and Will Call open 60 minutes prior to show time. The theater opens 30 minutes prior to show time.[/vc_column_text][/vc_tta_section][vc_tta_section i_icon_fontawesome=”fas fa-wine-glass-alt” add_icon=”true” title=”GRAND FOYER CAFÉ” tab_id=”1746107718593-a4fbebb9-67c9″][vc_column_text font_family=”Copernicus”]Enjoy sweet and savory treats\, assorted beverages and bar service before the show and during intermission.[/vc_column_text][/vc_tta_section][vc_tta_section i_icon_fontawesome=”fas fa-ticket-alt” add_icon=”true” title=”REFUNDS” tab_id=”1746107718604-769d436d-7d9e”][vc_column_text font_family=”Copernicus”]Ticket sales are non-refundable. Tickets purchased through a subscription package may be exchanged for another show in the same season. Tickets are transferable to friends or family. Donations for the value of tickets are appreciated.[/vc_column_text][/vc_tta_section][vc_tta_section i_icon_fontawesome=”fas fa-ban” add_icon=”true” title=”EVENT CANCELLATIONS” tab_id=”1746107718619-51aa69ff-f09f”][vc_column_text font_family=”Copernicus”]Please note that dates and times of all performances are subject to change. In the event of a canceled performance\, ticket holders will be notified by email and will have the opportunity to donate the value of their tickets to the Norton Center\, exchange their tickets for another show or receive a full refund.[/vc_column_text][/vc_tta_section][vc_tta_section i_icon_fontawesome=”fas fa-exclamation-triangle” add_icon=”true” title=”SECONDARY SELLERS” tab_id=”1746107718644-85c1ad66-7374″][vc_column_text font_family=”Copernicus”]Tickets to Norton Center performances are sold exclusively through the Box Office in person\, by phone at 859-236-4692 or online at www.nortoncenter.com. If you purchase tickets from any other source\, including Ticketmaster\, StubHub or an individual\, we cannot guarantee your seat. The prices of tickets obtained from unauthorized sources are often greatly inflated. The Norton Center is not responsible for tickets purchased from other sources. Tickets purchased from secondary sellers are not eligible for replacement if tickets are lost or stolen\, or if the event is canceled or rescheduled. \nFor more information\, please call the Box Office at 859-236-4692 or visit our Frequently Asked Questions page.[/vc_column_text][/vc_tta_section][/vc_tta_accordion][/vc_column][/vc_row]
URL:https://nortoncenter.com/event/melissa-etheridge/
CATEGORIES:Blockbusters,Events
ATTACH;FMTTYPE=image/jpeg:https://nortoncenter.com/wp-content/uploads/2025/10/Melissa_Featured-scaled.jpg
END:VEVENT
END:VCALENDAR