BEGIN:VCALENDAR
VERSION:2.0
PRODID:-//Norton Center - ECPv6.15.17.1//NONSGML v1.0//EN
CALSCALE:GREGORIAN
METHOD:PUBLISH
X-ORIGINAL-URL:https://nortoncenter.com
X-WR-CALDESC:Events for Norton Center
REFRESH-INTERVAL;VALUE=DURATION:PT1H
X-Robots-Tag:noindex
X-PUBLISHED-TTL:PT1H
BEGIN:VTIMEZONE
TZID:America/New_York
BEGIN:DAYLIGHT
TZOFFSETFROM:-0500
TZOFFSETTO:-0400
TZNAME:EDT
DTSTART:20220313T070000
END:DAYLIGHT
BEGIN:STANDARD
TZOFFSETFROM:-0400
TZOFFSETTO:-0500
TZNAME:EST
DTSTART:20221106T060000
END:STANDARD
BEGIN:DAYLIGHT
TZOFFSETFROM:-0500
TZOFFSETTO:-0400
TZNAME:EDT
DTSTART:20230312T070000
END:DAYLIGHT
BEGIN:STANDARD
TZOFFSETFROM:-0400
TZOFFSETTO:-0500
TZNAME:EST
DTSTART:20231105T060000
END:STANDARD
BEGIN:DAYLIGHT
TZOFFSETFROM:-0500
TZOFFSETTO:-0400
TZNAME:EDT
DTSTART:20240310T070000
END:DAYLIGHT
BEGIN:STANDARD
TZOFFSETFROM:-0400
TZOFFSETTO:-0500
TZNAME:EST
DTSTART:20241103T060000
END:STANDARD
END:VTIMEZONE
BEGIN:VEVENT
DTSTART;TZID=America/New_York:20230916T193000
DTEND;TZID=America/New_York:20230916T213000
DTSTAMP:20260420T074954
CREATED:20230809T183534Z
LAST-MODIFIED:20230911T143042Z
UID:10000044-1694892600-1694899800@nortoncenter.com
SUMMARY:Toad the Wet Sprocket with The Verve Pipe
DESCRIPTION:[vc_row equal_height=”yes” remove_bottom_col_margin=”true”][vc_column width=”3/4″][/vc_column][vc_column width=”1/4″ offset=”vc_hidden-sm”]BUY TICKETS SUBSCRIPTIONS ABOUT POLICIES [/vc_column][/vc_row][vc_row remove_bottom_col_margin=”true” local_scroll_id=”h1″ css=”.vc_custom_1677860692350{margin-bottom: 35px !important;}”][vc_column][/vc_column][/vc_row][vc_row remove_bottom_col_margin=”true” local_scroll_id=”h1″ css=”.vc_custom_1689884910799{margin-bottom: 60px !important;}”][vc_column]TOAD THE WET SPROCKET WITH THE VERVE PIPE[vc_column_text font_family=”Copernicus”]2023 ALL YOU WANT TOUR \nToad the Wet Sprocket is still making new music and touring with the same spirit of independence that started it all in the 90s and credit their success to the unwavering support of their fans.  \nThe band consists of founding members Glen Phillips\, Todd Nichols and Dean Dinning. Throughout their career\, Toad the Wet Sprocket has remained committed to creating music that is both meaningful and accessible. Songs like “All I Want\,” “Good Intentions” and “Walk On the Ocean” are filled with introspective lyrics and catchy melodies that have resonated with fans for decades. Joined by the critically acclaimed 90s rock band The Verve Pipe\, Toad the Wet Sprocket will bring their classic hits as well as deep-cut favorites from the past three decades.  [/vc_column_text][vc_column_text font_family=”Copernicus”]SOLD OUT! $194 Toad the Wet Sprocket Meet & Greet Experience \nThis package is no longer available. \nThis package includes a meet-and-greet photo opportunity with Toad the Wet Sprocket\, an invitation to an exclusive pre-show acoustic performance\, premier performance seating\, a limited edition event poster and a commemorative laminate. \nPlease note: This experiences is managed by a third party\, 237 Global. All package elements will be rendered invalid if resold. Name changes will be issued at the sole discretion of 237 Global. VIP instructions will be sent via email no later than three days (3) prior to the concert. If you do not receive this email three days (3) prior please email info@237global.com. All packages and contents are non-transferable; no refunds or exchanges; all sales are final. All VIP package items and experiences are subject to change. Please note that the information provided at the time of purchase (e-mail and mailing address) is the same information that will be utilized for individual contact requirements where applicable. 237 Global\, the artist\, tour\, promoter\, ticketing company\, venue or any other affiliated parties are not responsible for outdated or inaccurate information provided by the consumer at the time of purchase. If you have any questions regarding your VIP package elements\, or have not received your package information within three days (3) of the concert date\, please email info@237global.com. [/vc_column_text][/vc_column][/vc_row][vc_row][vc_column]ADDITIONAL PROGRAM INFORMATION[vc_tta_accordion section_title_tag=”h2″ style=”flat” gap=”3″ active_section=”0″ collapsible_all=”true”][vc_tta_section title=”ABOUT THE ARTISTS” tab_id=”1693506443608-1e935959-6eb6″][vc_column_text font_family=”Copernicus”]\n\n\n\nTOAD THE WET SPROCKET first gained attention in the late 1980s with their debut album\, Bread and Circus\, originally self-released on cassette in 1988. Their sophomore release\, Pale\, was recorded independently in 1989. Both records were released by Columbia Records\, in 1989 and 1990 respectively. \nToad’s third studio album\, “Fear\,” followed in 1991 and included their multi-format iconic hit singles “All I Want” and “Walk on the Ocean”\, was certified RIAA Platinum and further solidified the band’s popularity and mainstream success. \nIn 1994 the band released “Dulcinea\,” which included songs “Something’s Always Wrong\,” and “Fall Down\,” both staples at alternative and mainstream radio\, that helped Toad to earn their second RIAA certified Platinum Album and make Toad the Wet Sprocket a household name. In 1995 Toad released In Light Syrup\, a collection of rarities that included the hit “Good Intentions”\, which was featured on the Platinum-selling Friends soundtrack. \nThe band took a break in the late 1990s\, with the members pursuing solo projects. However\, they reunited in 2006 and have continued to perform together ever since. In 2013\, they released their first album in 16 years\, “New Constellation\,” which was funded by their fans as one of the most successful music Kickstarter campaigns in history. The album includes fan-favorite tracks “The Moment”\, “California Wasted” and “Enough” that showcase the bands growth and versatility. The album received critical acclaim and was followed by a successful tour. \nToad’s most recent studio album “Starting Now” (2021) marked a return to form for the band\, with its catchy melodies\, introspective lyrics\, and signature harmonies. It well-received and showcased the band’s signature sound while also exploring new sonic territories. Songs like “Transient Whales”\, “Starting Now” and “Hold On” serve as core performance tracks at live shows and as fan favorites. \nThroughout their career\, Toad the Wet Sprocket has remained humble and grateful for the support of their fans. Lead vocalist Glen Phillips has stated in interviews that the band is amazed by the loyalty of their audience and is honored to continue creating music that resonates with them. \n\n\n\n[/vc_column_text][vc_column_text font_family=”Copernicus”] \nWith a reputation for spectacular live performances\, the genesis of multi-platinum artist THE VERVE PIPE can be traced back to the early 90s when the principal members of two rival Michigan bands joined forces. After releasing two independent albums\, I’ve Suffered A Head Injury and Pop Smear\, the group quickly garnered a regional following for its textured rock songs distinguished by innovative arrangements\, soul-searching lyrics and layered vocals. \nIn addition to their success on radio\, TV and film\, sold-out concert dates throughout the U.S.\, Canada\, Europe and Australia\, features in Spin and Rolling Stone and videos on MTV and VH1\, the band have made numerous television appearances\, including ‘The Tonight Show With Jay Leno’ and ‘Late Night With David Letterman.’ \nAfter an eight year hiatus\, The Verve Pipe were approached to submit an original song for a compilation album of children’s music. That session inspired A Family Album\, their critically acclaimed introduction to the world of children’s music\, as well as their follow up release\, Are We There Yet?. Both albums contain music intended for the entire family\, with fun and inventive lyrics set to the memorable melodies the band is known for. \nThe Verve Pipe continue to tour\, performing both rock and kids shows throughout the U.S.\, including special appearances at Lollapalooza\, Austin City Limits Festival\, Hangout Music Festival\, SummerStage in Central Park\, and many more.[/vc_column_text][/vc_tta_section][vc_tta_section title=”PHOTO GALLERY” tab_id=”1693319199255-e86b10cd-a331d3d4-3651d927-88d77692-edbeb5b9-27da”][/vc_tta_section][vc_tta_section title=”SOCIAL LINKS” tab_id=”1693319199265-12d1aca6-b957d3d4-3651d927-88d77692-edbeb5b9-27da”][vc_column_text text_align=”center”]Toad the Wet Sprocket[/vc_column_text]FacebookInstagramYoutubeRSS[vc_column_text text_align=”center”]The Verve Pipe[/vc_column_text]FacebookInstagramYoutubeRSS[/vc_tta_section][/vc_tta_accordion][/vc_column][/vc_row][vc_row full_width=”stretch_row” remove_bottom_col_margin=”true” local_scroll_id=”h2″ css=”.vc_custom_1689884969418{margin-bottom: 80px !important;}”][vc_column][vc_column_text font_family=”Copernicus” color=”#000000″]\nThank you to our 2023/2024 Season Partner G&J Pepsi. \n[/vc_column_text][/vc_column][/vc_row][vc_row remove_bottom_col_margin=”true” local_scroll_id=”h1″ el_id=”toadseatmap”][vc_column]SELECT YOUR SEATS[vc_column_text font_family=”Copernicus”]\nPlease click on the seats you would like to purchase (maximum 8 tickets per order). Prices listed below map.\nCall the Box Office at 859-236-4692 to request accessible seating. \n[/vc_column_text][/vc_column][/vc_row][vc_row remove_bottom_col_margin=”true” css=”.vc_custom_1686333363490{margin-bottom: 70px !important;}”][vc_column][vc_empty_space][/vc_column][/vc_row][vc_row remove_bottom_col_margin=”true” local_scroll_id=”h1″ css=”.vc_custom_1686325566538{margin-bottom: 30px !important;}”][vc_column][vc_video link=”https://youtu.be/AVYYpNaSs2Y”][/vc_column][/vc_row][vc_row remove_bottom_col_margin=”true” local_scroll_id=”h3″][vc_column][/vc_column][/vc_row][vc_row remove_bottom_col_margin=”true” el_id=”accessibility”][vc_column]ACCESSIBILITYPlease note that the Norton Center is a historic venue with limited accessible seating. Special reserved wheelchair and companion seating is available for all shows. Interpretive services and large print programs are available upon request at least 20 days in advance of the performance. Please call the Box Office at 859-236-4692 to request assistance with your accommodations. \nREFUNDS AND EXCHANGESTicket sales are non-refundable. Tickets purchased through a subscription package may be exchanged for another show in the same season. Tickets are transferable to friends or family. Donations for the value of tickets are appreciated. \nBEWARE OF SECONDARY SELLERSTickets to Norton Center performances are sold exclusively through the Box Office in person\, by phone at 859-236-4692 or online at www.nortoncenter.com. If you purchase tickets from any other source\, including Ticketmaster\, StubHub or an individual we cannot guarantee your seat. The prices of tickets obtained from unauthorized sources are often greatly inflated. The Norton Center is not responsible for tickets purchased from other sources. Tickets purchased from secondary sellers are not eligible for replacement if tickets are lost or stolen\, or if the event is canceled or rescheduled. \nFor more information\, please call the Box Office at 859-236-4692 or visit our Frequently Asked Questions page. \n[/vc_column][/vc_row][vc_row remove_bottom_col_margin=”true” local_scroll_id=”h3″][vc_column][/vc_column][/vc_row]
URL:https://nortoncenter.com/event/toad-the-wet-sprocket/
CATEGORIES:Blockbusters
ATTACH;FMTTYPE=image/jpeg:https://nortoncenter.com/wp-content/uploads/2023/06/TOAD-Press-Pic-Credit-Chris-Orwig-scaled.jpg
END:VEVENT
BEGIN:VEVENT
DTSTART;TZID=America/New_York:20230901T193000
DTEND;TZID=America/New_York:20230901T213000
DTSTAMP:20260420T074954
CREATED:20230829T152012Z
LAST-MODIFIED:20230901T222409Z
UID:10000042-1693596600-1693603800@nortoncenter.com
SUMMARY:Ann Wilson of Heart & Tripsitter
DESCRIPTION:[vc_row equal_height=”yes” remove_bottom_col_margin=”true”][vc_column width=”3/4″][/vc_column][vc_column width=”1/4″ offset=”vc_hidden-sm”]PROGRAM SUBSCRIPTIONS ABOUT POLICIES [/vc_column][/vc_row][vc_row remove_bottom_col_margin=”true” local_scroll_id=”h1″ css=”.vc_custom_1677860692350{margin-bottom: 35px !important;}”][vc_column][/vc_column][/vc_row][vc_row remove_bottom_col_margin=”true” local_scroll_id=”h1″ css=”.vc_custom_1686333470196{margin-bottom: 60px !important;}”][vc_column el_id=”annwilsonabout”]ANN WILSON OF HEART & TRIPSITTER[vc_column_text font_family=”Copernicus”]Ann Wilson\, known the world over as a founder and the lead singer-songwriter of the barrier-breaking band Heart\, is here to stay. \nWidely praised among the greatest singers in the history of rock\, Ann’s extraordinarily powerful voice has been sending chills down her audience’s collective spine for over five decades\, earning record sales of more than 35 million\, an induction into the Rock and Roll Hall of Fame\, and a Grammy Lifetime Achievement award. \n“Barracuda\,” “Crazy On You\,” and “Magic Man” are among the many songs she’s written that now reside in the pantheon of rock’s greatest hits. “Greed” from 2022’s Fierce Bliss plays seamlessly alongside the classics in her current live set. \nThis past year\, Ann sang with Disturbed’s front man David Draiman on the duet\, “Don’t Tell Me” from their recently released Divisive album\, and lent her voice to Dolly Parton’s forthcoming rock record. From Dreamboat Annie to Disturbed\, to Dolly Parton and beyond\, Ann Wilson defies genre. \nPrior to starting their summer tour\, Ann Wilson & Tripsitter has been putting the finishing touches on a new album of original material. This year\, Ann brings her show to venues everywhere with the same vigor and verve that she brought that one memorable night in front of Led Zeppelin at The Kennedy Center.[/vc_column_text][/vc_column][/vc_row][vc_row][vc_column]ADDITIONAL PROGRAM INFORMATION[vc_tta_accordion section_title_tag=”h2″ style=”flat” gap=”3″ active_section=”0″ collapsible_all=”true”][vc_tta_section title=”PHOTO GALLERY” tab_id=”1693319199255-e86b10cd-a331d3d4-3651d927-88d77692-edbe”][/vc_tta_section][vc_tta_section title=”SOCIAL LINKS” tab_id=”1693319199265-12d1aca6-b957d3d4-3651d927-88d77692-edbe”]FacebookInstagramYoutubeRSS[/vc_tta_section][/vc_tta_accordion][/vc_column][/vc_row][vc_row remove_bottom_col_margin=”true” local_scroll_id=”h2″ css=”.vc_custom_1693407417515{margin-bottom: 80px !important;}”][vc_column][vc_column_text font_family=”Copernicus” color=”#000000″]\nThank you to our 2023/2024 Season Partner G&J Pepsi. \n[/vc_column_text][/vc_column][/vc_row][vc_row remove_bottom_col_margin=”true” css=”.vc_custom_1689954461124{margin-bottom: 90px !important;}”][vc_column][vc_video link=”https://www.youtube.com/watch?v=q240UDQV_z4″][/vc_column][/vc_row][vc_row remove_bottom_col_margin=”true” local_scroll_id=”#accessibility”][vc_column]ACCESSIBILITYPlease note that the Norton Center is a historic venue with limited accessible seating. Special reserved wheelchair and companion seating is available for all shows. Interpretive services and large print programs are available upon request at least 20 days in advance of the performance. Please call the Box Office at 859-236-4692 to request assistance with your accommodations. \nREFUNDS AND EXCHANGESTicket sales are non-refundable. Tickets purchased through a subscription package may be exchanged for another show in the same season. Tickets are transferable to friends or family. Donations for the value of tickets are appreciated. \nBEWARE OF SECONDARY SELLERSTickets to Norton Center performances are sold exclusively through the Box Office in person\, by phone at 859-236-4692 or online at www.nortoncenter.com. If you purchase tickets from any other source\, including Ticketmaster\, StubHub or an individual we cannot guarantee your seat. The prices of tickets obtained from unauthorized sources are often greatly inflated. The Norton Center is not responsible for tickets purchased from other sources. Tickets purchased from secondary sellers are not eligible for replacement if tickets are lost or stolen\, or if the event is canceled or rescheduled. \nFor more information\, please call the Box Office at 859-236-4692 or visit our Frequently Asked Questions page. \n[/vc_column][/vc_row][vc_row remove_bottom_col_margin=”true” local_scroll_id=”h3″][vc_column][/vc_column][/vc_row]
URL:https://nortoncenter.com/event/ann-wilson-of-heart-2/
CATEGORIES:Blockbusters
ATTACH;FMTTYPE=image/jpeg:https://nortoncenter.com/wp-content/uploads/2023/06/Ann_and_Tripsitter_FINAL_updated-2.jpg
END:VEVENT
END:VCALENDAR