BEGIN:VCALENDAR
VERSION:2.0
PRODID:-//Norton Center - ECPv6.15.17.1//NONSGML v1.0//EN
CALSCALE:GREGORIAN
METHOD:PUBLISH
X-WR-CALNAME:Norton Center
X-ORIGINAL-URL:https://nortoncenter.com
X-WR-CALDESC:Events for Norton Center
REFRESH-INTERVAL;VALUE=DURATION:PT1H
X-Robots-Tag:noindex
X-PUBLISHED-TTL:PT1H
BEGIN:VTIMEZONE
TZID:UTC
BEGIN:STANDARD
TZOFFSETFROM:+0000
TZOFFSETTO:+0000
TZNAME:UTC
DTSTART:20220101T000000
END:STANDARD
END:VTIMEZONE
BEGIN:VEVENT
DTSTART;TZID=UTC:20230504T100000
DTEND;TZID=UTC:20230504T110000
DTSTAMP:20260420T041552
CREATED:20230303T143600Z
LAST-MODIFIED:20230406T173139Z
UID:10000022-1683194400-1683198000@nortoncenter.com
SUMMARY:Student Matinee - Circus DuBois
DESCRIPTION:[vc_row equal_height=”yes” remove_bottom_col_margin=”true”][vc_column][/vc_column][/vc_row][vc_row column_spacing=”10″ remove_bottom_col_margin=”true” css=”.vc_custom_1677247329545{margin-top: 35px !important;margin-bottom: 35px !important;}” el_id=”nav”][vc_column]Download the Student Matinee Order Form [/vc_column][/vc_row][vc_row remove_bottom_col_margin=”true” local_scroll_id=”h1″][vc_column]A CIRCUS EXPERIENCE LIKE NO OTHER[vc_column_text font_family=”Copernicus”]A fast-paced\, high-energy circus show showcasing incredible feats of juggling\, hula hoops\, unicycle\, aerial\, circus stunts\, contortion\, magic and audience interaction all wrapped up in a blanket of comedy. The award-winning combination of Michael DuBois and Viktoria Grimmy have five generations of circus performing between them\, and have wowed crowds at countless shows all over the world. \nRecently featured in Hugh Jackman’s hit movie\, The Greatest Showman\, The Great DuBois have amassed an impressive list of credits\, including appearances in the Tony Award winning Pippin on Broadway\, “The Tonight Show with Jay Leno\,” “Late Night with David Letterman\,” Britney Spears World Circus Tour\, and the movie “Burlesque”- to highlight just a few.[/vc_column_text][/vc_column][/vc_row][vc_row remove_bottom_col_margin=”true” local_scroll_id=”h2″ css=”.vc_custom_1677242838431{margin-bottom: 35px !important;}”][vc_column]BRING YOUR CLASS FOR FREE![vc_column_text font_family=”Copernicus”]The Norton Center’s Arts for the Classroom Ticket Subsidy (ACTS) program provides FREE matinee ticket and program admission to Kentucky K – 12 public school students.[/vc_column_text][/vc_column][/vc_row][vc_row remove_bottom_col_margin=”true” css=”.vc_custom_1677242952067{margin-bottom: 35px !important;}”][vc_column]►[/vc_column][/vc_row][vc_row remove_bottom_col_margin=”true”][vc_column][/vc_column][/vc_row]
URL:https://nortoncenter.com/event/student-matinee-circus-dubois/
CATEGORIES:Student Programs
ATTACH;FMTTYPE=image/png:https://nortoncenter.com/wp-content/uploads/2023/03/CircusDuBois1.png
END:VEVENT
END:VCALENDAR